BEGIN:VCALENDAR
VERSION:2.0
PRODID:-//Dale Heights Presbyterian Church - ECPv6.15.1.1//NONSGML v1.0//EN
CALSCALE:GREGORIAN
METHOD:PUBLISH
X-WR-CALNAME:Dale Heights Presbyterian Church
X-ORIGINAL-URL:https://daleheightschurch.org
X-WR-CALDESC:Events for Dale Heights Presbyterian Church
REFRESH-INTERVAL;VALUE=DURATION:PT1H
X-Robots-Tag:noindex
X-PUBLISHED-TTL:PT1H
BEGIN:VTIMEZONE
TZID:America/Chicago
BEGIN:DAYLIGHT
TZOFFSETFROM:-0600
TZOFFSETTO:-0500
TZNAME:CDT
DTSTART:20260308T080000
END:DAYLIGHT
BEGIN:STANDARD
TZOFFSETFROM:-0500
TZOFFSETTO:-0600
TZNAME:CST
DTSTART:20261101T070000
END:STANDARD
END:VTIMEZONE
BEGIN:VEVENT
DTSTART;TZID=America/Chicago:20260803T090000
DTEND;TZID=America/Chicago:20260803T113000
DTSTAMP:20260423T072620
CREATED:20260325T161629Z
LAST-MODIFIED:20260325T170048Z
UID:3103-1785747600-1785756600@daleheightschurch.org
SUMMARY:2026 VACATION BIBLE SCHOOL
DESCRIPTION:Children ages 6-10 years are invited to JOIN US for stories\, art\, snacks\, fun\, music! \nWhen:  August 3\, 4\, 5  from  9:00 – 11:30 am \nPlease RSVP by June 15 by emailing the church office at dale.heights@gmail.com or call us at 608-233-0134 \n 
URL:https://daleheightschurch.org/event/2026-vacation-bible-school/
LOCATION:Dale Heights Presbyterian Church\, 5501 University Avenue\, Madison\, 53705\, United States
END:VEVENT
END:VCALENDAR